BEGIN:VCALENDAR
VERSION:2.0
PRODID:-//eventon.com NONSGML v1.0//EN
BEGIN:VEVENT
UID:69e82cb99df8c
DTSTAMP:20260422T020441
DTSTART:20200707T093000Z
DTEND:20200707T103000Z
LOCATION:Seminario Online 
SUMMARY:Episodio 1: The Copper Mark\,  el compromiso de la industria con una producción responsable
DESCRIPTION: A principios de este año\,  se lanzó formalmente el único sistema de certificación para garantizar la producción responsable de cobre denominado The Copper Mark. Esta organización brinda a las operaciones de cobre una forma tangible de demostrar sus mejores prácticas y contribución a los ODS de las Naciones Unidas. Panelistas:[..]
END:VEVENT
END:VCALENDAR