BEGIN:VCALENDAR
VERSION:2.0
PRODID:-//eventon.com NONSGML v1.0//EN
BEGIN:VEVENT
UID:69ea74315135f
DTSTAMP:20260423T193409
DTSTART:20201105T000000Z
DTEND:20201106T235900Z
LOCATION:Auditorio Virtual Worktec Argentina 
SUMMARY:6° Congreso Argentino de Recursos Humanos "Resignificando la transformación"
DESCRIPTION: El Congreso Argentino de Recursos Humanos es el punto de encuentro de profesionales\,  directores y ejecutivos de Recursos Humanos de las principales empresas del país. La temática de esta edición tocará temas claves sobre nuevas o diferentes formas de liderar y el rol de las áreas de Recursos Humanos en[..]
END:VEVENT
END:VCALENDAR