BEGIN:VCALENDAR
VERSION:2.0
PRODID:-//eventon.com NONSGML v1.0//EN
BEGIN:VEVENT
UID:69e6227fa0dd7
DTSTAMP:20260420T125631
DTSTART:20210317T110000Z
DTEND:20210317T120000Z
LOCATION:Seminario Online 
SUMMARY:Coloquio Minnovex 2021
DESCRIPTION: Primer Coloquio Minnovex 2021\,  un espacio para conocer cómo la Industria Minera irá delineando su estrategia de mediano y largo plazo\,  a través de la mirada de destacados actores del ecosistema minero de nuestro país. En esta oportunidad estará presente el presidente de Sonami\,  Diego Hernández.
END:VEVENT
END:VCALENDAR