BEGIN:VCALENDAR
VERSION:2.0
PRODID:-//eventon.com NONSGML v1.0//EN
BEGIN:VEVENT
UID:69ebdb9c05b57
DTSTAMP:20260424T210740
DTSTART:20210504T110000Z
DTEND:20210504T123000Z
LOCATION:Seminario Web Gratuito 
SUMMARY:Webinar “Chile y Perú: Juntos por una minería sostenible”
DESCRIPTION: El próximo 4 de mayo\,  a las 11:00 hrs. de Chile (10:00 hrs. de Perú)\,  la Corporación Alta Ley y Sammi – Clúster Minero Andino realizarán el webinar “Chile y Perú: Juntos por una minería sostenible”\,  espacio en el que se abordarán las oportunidades y desafíos que existen en ambos[..]
END:VEVENT
END:VCALENDAR