BEGIN:VCALENDAR
VERSION:2.0
PRODID:-//eventon.com NONSGML v1.0//EN
BEGIN:VEVENT
UID:69ea2eaa7084e
DTSTAMP:20260423T143730
DTSTART:20210607T000000Z
DTEND:20210611T235900Z
LOCATION:Seminario Online 
SUMMARY:Minería en América Latina: 2° Congreso de Negocios en Línea y Reuniones 1-a-1
DESCRIPTION: Congreso de negocios en línea y reuniones 1-a-1 Minería Perú es la única plataforma profesional para el desarrollo de negocios a alto nivel con empresarios claves en la industria\,  organismos reguladores\,  entidades gubernamentales\,  proveedores de tecnología y equipos e inversionistas de toda América Latina y Europa.
END:VEVENT
END:VCALENDAR