BEGIN:VCALENDAR
VERSION:2.0
PRODID:-//eventon.com NONSGML v1.0//EN
BEGIN:VEVENT
UID:69e6425476701
DTSTAMP:20260420T151220
DTSTART:20210603T100000Z
DTEND:20210603T110000Z
LOCATION:Seminario Web Gratuito 
SUMMARY:Ciberseguridad y Tecnología de Operaciones (TO) ¿No es sólo una preocupación de TI?
DESCRIPTION: El Comité de Innovación de la Asociación de Proveedores Industriales de la Minería (Aprimin)\,  anunció que realizará el seminario “Ciberseguridad y Tecnología de Operación (TO) ¿No es sólo una preocupación de TI?”. El evento contará con la presentación de Ricardo Urbina Miranda\,  Oficial de Seguridad de la Información del Grupo[..]
END:VEVENT
END:VCALENDAR