BEGIN:VCALENDAR
VERSION:2.0
PRODID:-//eventon.com NONSGML v1.0//EN
BEGIN:VEVENT
UID:69e7f5881bd0c
DTSTAMP:20260421T220912
DTSTART:20220207T010000Z
DTEND:20221130T010000Z
LOCATION:
SUMMARY:Curso "Tácticas de Venta para la Minería"
DESCRIPTION: Portal Minero te invita al curso "Tácticas de Venta para la Minería" que se desarrolla de manera on line a partir de febrero y durante todo el año. Si quieres participar sólo debes hacer click en el link "MÁS INFORMACIÓN".Curso asincrónico\,  puedes comenzar hoy
END:VEVENT
END:VCALENDAR