BEGIN:VCALENDAR
VERSION:2.0
PRODID:-//eventon.com NONSGML v1.0//EN
BEGIN:VEVENT
UID:69e4f6af1f373
DTSTAMP:20260419T153719
DTSTART:20220216T180000Z
DTEND:20220216T080000Z
LOCATION:
SUMMARY:Conversatorio sobre la pequeña minería y el rol de Enami
DESCRIPTION: La Cámara Minera de Chile realizará este miércoles 16 de febrero a las 18 horas vía ZOMM\,  un conversatorio centrado en la pequeña minería y el rol de Enami. “Ante las últimas noticias conocidas sobre el remate de activos de la Empresa Nacional de Minería\,  Enami\,  creemos que es trascendental[..]
END:VEVENT
END:VCALENDAR