BEGIN:VCALENDAR
VERSION:2.0
PRODID:-//eventon.com NONSGML v1.0//EN
BEGIN:VEVENT
UID:69e8a2300afa0
DTSTAMP:20260422T102552
DTSTART:20220519T090000Z
DTEND:20220519T170000Z
LOCATION:
SUMMARY:Proyecta Solar Chile Latam 2022
DESCRIPTION: Proyecta Solar - CHILE LATAM 2022 Jueves 19 de mayo 2022 | 9:00 a 17:00 hrs. | Hotel Intercontinental &nbsp; Hemos alcanzado el cupo máximo de inscripciones presenciales. Te invitamos a seguirnos de manera virtual.
END:VEVENT
END:VCALENDAR