BEGIN:VCALENDAR
VERSION:2.0
PRODID:-//eventon.com NONSGML v1.0//EN
BEGIN:VEVENT
UID:69e77e25441c1
DTSTAMP:20260421T133949
DTSTART:20230124T000000Z
DTEND:20230124T235900Z
LOCATION:Sede Colegio de Ingenieros de Chile: Av. Santa María 0506\,  Providencia 
SUMMARY:“Codelco\,  presente y futuro”
DESCRIPTION: Resumen: Los aspectos más relevantes del Plan de Negocios y Desarrollo (PND) de Codelco y la situación actual y futura de sus proyectos estructurales\,  serán abordados en el foro “Codelco\,  presente y futuro”\,  organizado por el Colegio de Ingenieros de Chile y la asociación gremial Voces Mineras\,  el próximo martes[..]
END:VEVENT
END:VCALENDAR