BEGIN:VCALENDAR
VERSION:2.0
PRODID:-//eventon.com NONSGML v1.0//EN
BEGIN:VEVENT
UID:69e4ec486b12c
DTSTAMP:20260419T145256
DTSTART:20230403T000000Z
DTEND:20230403T235900Z
LOCATION:Online 
SUMMARY:"Inversión Minera en Chile - desafíos y oportunidades"
DESCRIPTION: La Comisión Política Minera de la Cámara Minera de Chile\,  presidida por Walter Muñoz\,  realizará el próximo lunes 3 de abril a partir de las 19 horas\,  vía Zoom\,  el Conversatorio: ¨Inversión Minera en Chile – desafíos y oportunidades¨. En la ocasión\,  se analizarán diversos temas que afectan de alguna[..]
END:VEVENT
END:VCALENDAR