BEGIN:VCALENDAR
VERSION:2.0
PRODID:-//eventon.com NONSGML v1.0//EN
BEGIN:VEVENT
UID:69eaddd91ce5b
DTSTAMP:20260424T030457
DTSTART:20230727T190000Z
DTEND:20230727T235000Z
LOCATION:Centro de Eventos El Arrayán\,  Díaz Gana 1314\,  Antofagasta. 
SUMMARY:Networking "Club de la Minería" Antofagasta
DESCRIPTION: Un nuevo Networking "Club de la Minería"\,  organizado por la Asociación de Proveedores Industriales de la Minería (Aprimin)\,  se realizará el jueves 27 de julio a partir de las 19:00 Horas en el Centro de Eventos El Arrayán\,  ubicado en Díaz Gana 1314\,  Antofagasta. El tema principal será el Conversatorio[..]
END:VEVENT
END:VCALENDAR