BEGIN:VCALENDAR
VERSION:2.0
PRODID:-//eventon.com NONSGML v1.0//EN
BEGIN:VEVENT
UID:69eb7402b8c6b
DTSTAMP:20260424T134538
DTSTART:20230809T000000Z
DTEND:20230811T235900Z
LOCATION:Hotel Sheraton\,  Av. Sta. María 1742\,  Providencia\,  Región Metropolitana. 
SUMMARY:Minería Digital 2023
DESCRIPTION: Minería Digital 2023 se consolida como un importante foro internacional que permite conocer y discutir innovaciones y desarrollos recientes en los sistemas de control\,  automatización y robótica aplicados en exploración\,  minería subterránea\,  minería en superficie\,  procesamiento de minerales\,  hidrometalurgia\,  entre otros. El evento se realizará entre el 9 y el[..]
END:VEVENT
END:VCALENDAR