BEGIN:VCALENDAR
VERSION:2.0
PRODID:-//eventon.com NONSGML v1.0//EN
BEGIN:VEVENT
UID:69ecc4b42223f
DTSTAMP:20260425T134212
DTSTART:20231107T000000Z
DTEND:20231109T235900Z
LOCATION:Hotel Sheraton\,  Av. Sta. María 1742\,  Providencia\,  Región Metropolitana. 
SUMMARY:Hydroprocess 2023-14ᵃ Conferencia Internacional de Procesos Hidrometalúrgicos
DESCRIPTION: Hydroprocess 2023 ofrece una excelente oportunidad para que los ejecutivos\,  profesionales y académicos relacionados con los procesos hidrometalúrgicos puedan intercambiar conocimientos\,  experiencias\,  métodos de trabajo y herramientas en la industria minera global. El evento se realizará entre el 7 y el 9 de noviembre 2023 en el Hotel Sheraton de[..]
END:VEVENT
END:VCALENDAR