BEGIN:VCALENDAR
VERSION:2.0
PRODID:-//eventon.com NONSGML v1.0//EN
BEGIN:VEVENT
UID:69ea74319ef39
DTSTAMP:20260423T193409
DTSTART:20231103T000000Z
DTEND:20231104T235900Z
LOCATION:Parque Quinta Vergara de Viña del Mar. 
SUMMARY:Expoindustrial de Minería 2023
DESCRIPTION: Con la finalidad de conectar a la minería e industria con la gente\,  el próximo viernes 03 y sábado 04 de noviembre se realizará la Expoindustrial de Minería en el Parque Quinta Vergara de Viña del Mar. Organizado por Mininnova\,  el evento proyecta la visita de 15.000 asistentes durante ambas[..]
END:VEVENT
END:VCALENDAR