BEGIN:VCALENDAR
VERSION:2.0
PRODID:-//eventon.com NONSGML v1.0//EN
BEGIN:VEVENT
UID:69e8f913162e3
DTSTAMP:20260422T163635
DTSTART:20240603T000000Z
DTEND:20240606T235900Z
LOCATION:
SUMMARY:Exponor 2024
DESCRIPTION: Entre el próximo 3 y 6 de junio se realizará Exponor\,  uno de los eventos más importantes de la industria minera y energética\,  el que es organizado por la Asociación de Industriales de Antofagasta (AIA). \,  Para este año\,  se espera la participación de 850 expositores de 30 países y[..]
END:VEVENT
END:VCALENDAR