BEGIN:VCALENDAR
VERSION:2.0
PRODID:-//eventon.com NONSGML v1.0//EN
BEGIN:VEVENT
UID:69e8ee5b43619
DTSTAMP:20260422T155051
DTSTART:20260415T183000Z
DTEND:20260415T233000Z
LOCATION:Club de Polo y Equitación San Cristóbal\,  Av. San Josemaría Escrivá de Balaguer 5501\,  Vitacura\,  Santiago. 
SUMMARY:Cesco Dinner 2026
DESCRIPTION: El Centro de Estudios del Cobre y la Minería (Cesco) organiza la Cesco Dinner 2026\,  que celebrará su versión número 29 el miércoles 15 de abril\,  en el Club de Polo y Equitación San Cristóbal\,  en Santiago. El evento continúa posicionándose como un encuentro estratégico para el networking\,  las conversaciones[..]
END:VEVENT
END:VCALENDAR