BEGIN:VCALENDAR
VERSION:2.0
PRODID:-//eventon.com NONSGML v1.0//EN
BEGIN:VEVENT
UID:69e8ee596be0d
DTSTAMP:20260422T155049
DTSTART:20260413T000000Z
DTEND:20260415T235900Z
LOCATION:Hotel W. Isidora Goyenechea 3000\,  Las Condes\,  Región Metropolitana\,  Chile. 
SUMMARY:Conferencia Mundial del Cobre
DESCRIPTION: La Conferencia Mundial del Cobre de CRU regresa al Hotel W\,  Santiago\,  del 13 al 15 de abril de 2026\,  uniendo la cadena de valor global durante tres días de networking de alto nivel\,  negociación de acuerdos e inteligencia de mercado durante la Semana CESCO . Reconocido como el encuentro[..]
END:VEVENT
END:VCALENDAR