BEGIN:VCALENDAR
VERSION:2.0
PRODID:-//eventon.com NONSGML v1.0//EN
BEGIN:VEVENT
UID:69e8acf4b9b1b
DTSTAMP:20260422T111148
DTSTART:20190926T000000Z
DTEND:20190926T235900Z
LOCATION:Edificio Telefónica Av. Providencia 111\,  Providencia
SUMMARY:2° Congreso de Realidad Virtual\,  Aumentada\,  Mixta e Inmersiva
DESCRIPTION: 2° Congreso de Realidad Virtual\,  Aumentada\,  Mixta e Inmersiva Tecnologías XR como herramientas de formación\,  capacitación y entrenamiento. Ven a conocer el estado del arte en las tecnologías\,  a intercambiar experiencias con líderes en su áreas\,  académicos\,  clientes y proveedores de la industria.
END:VEVENT
END:VCALENDAR