BEGIN:VCALENDAR
VERSION:2.0
PRODID:-//eventon.com NONSGML v1.0//EN
BEGIN:VEVENT
UID:69ed5c77cff1c
DTSTAMP:20260426T002943
DTSTART:20190927T123400Z
DTEND:20190927T123400Z
LOCATION:
SUMMARY:Conexpo 2
DESCRIPTION: [et_pb_section bb_built="1"][et_pb_row _builder_version="3.15"][et_pb_column type="4_4"][et_pb_code _builder_version="3.15"]<?php do_action('eventon_before_main_content');?> <!-- [et_pb_line_break_holder] --> <!-- [et_pb_line_break_holder] --><div id='main'><!-- [et_pb_line_break_holder] --> <div class='evo_page_body'><!-- [et_pb_line_break_holder] --> <!-- [et_pb_line_break_holder] --> <?php do_action('eventon_single_content_wrapper');?><!-- [et_pb_line_break_holder] --> <!-- [et_pb_line_break_holder] --> <?php /* The loop */ ?><!-- [et_pb_line_break_holder] --> <?php while ( have_posts() ) : the_post(); ?><!-- [et_pb_line_break_holder] --> <!-- [et_pb_line_break_holder] -->[..]
END:VEVENT
END:VCALENDAR