BEGIN:VCALENDAR
VERSION:2.0
PRODID:-//eventon.com NONSGML v1.0//EN
BEGIN:VEVENT
UID:69ebd9e6bb0bf
DTSTAMP:20260424T210022
DTSTART:20191017T000000Z
DTEND:20191017T235900Z
LOCATION:The Ritz Carlton Hotel El Alcalde 15\,  Las Condes
SUMMARY:Congreso Internacional de Marketing Industrial en contextos B2B
DESCRIPTION: Organizado por el Centro de Marketing Industrial de la Facultad de Economía y Negocios de la Universidad de Chile\,  evento anual que tiene el objetivo de entregar conocimientos de vanguardia a organizaciones vinculadas a contextos B2B (business to business)\,  para impulsar la evolución del marketing estratégico en nuestro país.
END:VEVENT
END:VCALENDAR