BEGIN:VCALENDAR
VERSION:2.0
PRODID:-//eventon.com NONSGML v1.0//EN
BEGIN:VEVENT
UID:69e7d2147c0fa
DTSTAMP:20260421T193756
DTSTART:20191202T000000Z
DTEND:20191203T235900Z
LOCATION:King Fahd Palace Hotel\,  Dakar\,  Senegal 
SUMMARY:Regional Energy Summit
DESCRIPTION: La Cumbre reunirá a más de 300 inversores\,  líderes de proyectos y partes interesadas de los servicios públicos para participar y presentar los últimos desarrollos para mejorar la combinación energética dentro de África occidental.
END:VEVENT
END:VCALENDAR