BEGIN:VCALENDAR
VERSION:2.0
PRODID:-//eventon.com NONSGML v1.0//EN
BEGIN:VEVENT
UID:69eb38fb76512
DTSTAMP:20260424T093347
DTSTART:20191128T000000Z
DTEND:20191128T235900Z
LOCATION:Auditorio del Campus Vicente Kovacevic Santa Isabel 1186\,  Santiago
SUMMARY:1er Encuentro de Proveedores de la Industria Minera (Evento Suspendido)
DESCRIPTION: En busca de nuevos desafíos gremiales\,  y generando valor al sector\,  la Asociación Gremial de Suministradores Técnicos y de Ingeniería para la Minería e Industria\,  SUTMIN A.G.\,  junto a la Escuela de Ingeniería Civil en Minas de la Universidad Central de Chile\,  organizan el Primer Encuentro de Proveedores de la[..]
END:VEVENT
END:VCALENDAR