BEGIN:VCALENDAR
VERSION:2.0
PRODID:-//eventon.com NONSGML v1.0//EN
BEGIN:VEVENT
UID:69eba2022babf
DTSTAMP:20260424T170154
DTSTART:20200108T190000Z
DTEND:20200108T220000Z
LOCATION:Casapiedra Av San Josemaría Escrivá de Balaguer 5600\,  Vitacura
SUMMARY:Cena Anual APRIMIN
DESCRIPTION: Cena Anual APRIMIN
END:VEVENT
END:VCALENDAR