BEGIN:VCALENDAR
VERSION:2.0
PRODID:-//eventon.com NONSGML v1.0//EN
BEGIN:VEVENT
UID:69ed014481d73
DTSTAMP:20260425T180036
DTSTART:20191205T083000Z
DTEND:20191205T113000Z
LOCATION:Hotel Marriott Av Presidente Kennedy 5741\,  Las Condes
SUMMARY:“Integral Speaks\,  una mirada a nuestro futuro”
DESCRIPTION: “Una mirada a nuestro Futuro” es el llamado de la conferencia que se realizará el próximo 5 de diciembre y que entregará la visión de tres destacados profesionales\,  quienes analizarán la contingencia y entregarán respuestas a todos esos pequeños\,  medianos y grandes empresarios que buscan soluciones ante la crisis. La[..]
END:VEVENT
END:VCALENDAR