BEGIN:VCALENDAR
VERSION:2.0
PRODID:-//eventon.com NONSGML v1.0//EN
BEGIN:VEVENT
UID:69eced317e174
DTSTAMP:20260425T163457
DTSTART:20201021T000000Z
DTEND:20201023T235900Z
LOCATION:Seminario Online 
SUMMARY:“Exposición Internacional San Juan Minera 2020”
DESCRIPTION: La “Exposición Internacional: San Juan Minera 2020”\,  será una de las ediciones más trascendentales de este evento producto del arribo de una nueva década para la minería en la que se prevén fuertes definiciones en materia de inversión y adopción de nuevos paradigmas. Con proyectos avanzados en exploración y la[..]
END:VEVENT
END:VCALENDAR