BEGIN:VCALENDAR
VERSION:2.0
PRODID:-//eventon.com NONSGML v1.0//EN
BEGIN:VEVENT
UID:69eb06ec623cf
DTSTAMP:20260424T060012
DTSTART:20200124T150000Z
DTEND:20200201T203000Z
LOCATION:Portal Minero Fidel Oteiza 1953 - Oficina 202
SUMMARY:Curso "Administración de Contratos"
DESCRIPTION: Curso “Administración de Contratos” Fecha Horario Viernes  24 y 31 de  Enero 2020 15.00-20.30 hrs Sábado 25 Enero  y 01 de Febrero de 2020 &nbsp; 09.00-20.30 hrs &nbsp; Valor: $440.000.- Inscripción Anticipada $380.000.- (Hasta Viernes 17 de Enero 2020) Lugar de realización: Portal Minero. Fidel Oteiza 1953\,  Oficina 202. Providencia\,  Santiago
END:VEVENT
END:VCALENDAR