BEGIN:VCALENDAR
VERSION:2.0
PRODID:-//eventon.com NONSGML v1.0//EN
BEGIN:VEVENT
UID:69ecac306b820
DTSTAMP:20260425T115736
DTSTART:20200527T100000Z
DTEND:20200527T113000Z
LOCATION:Seminario Online 
SUMMARY:Webinar “Covid-19 y Equidad de Género: una oportunidad para compartir buenas prácticas y avanzar”
DESCRIPTION: El Webinar “Covid-19 y Equidad de Género: una oportunidad para compartir buenas prácticas y avanzar”\,  tendrá como objetivo analizar la situación actual de las mujeres laboralmente activas\,  las herramientas y buenas prácticas dispuestas por las organizaciones; y las lecciones y oportunidades que la crisis sanitaria puede empujar para mejorar o[..]
END:VEVENT
END:VCALENDAR